BEGIN:VCALENDAR
METHOD:PUBLISH
PRODID:-//github.com/rianjs/ical.net//NONSGML ical.net 4.0//EN
VERSION:2.0
BEGIN:VEVENT
DESCRIPTION:Årets fylkesting for ungdom blir på Scandic Flesland Bergen fr
 å laurdag 14. til måndag 16. mars.
DTEND;TZID=W. Europe Standard Time:20260316T150000
DTSTAMP:20260424T204209Z
DTSTART;TZID=W. Europe Standard Time:20260314T160000
LOCATION: Scandic Flesland Bergen
ORGANIZER:mailto:post@vestland.no
SEQUENCE:0
SUMMARY:Fylkesting for ungdom 2026
UID:Vestland-51691
BEGIN:VALARM
ACTION:DISPLAY
DESCRIPTION:Reminder
DURATION:-PT15M
TRIGGER:-PT15M
END:VALARM
END:VEVENT
END:VCALENDAR
