BEGIN:VCALENDAR
METHOD:PUBLISH
PRODID:-//github.com/rianjs/ical.net//NONSGML ical.net 4.0//EN
VERSION:2.0
BEGIN:VEVENT
DESCRIPTION:Fylkeskommunen har lagt om mange av tilskotsordningane innan k
 ultur\, idrett og folkehelse. Tretti gamle ordningar har blitt til sju ny
 e. Lær meir om dei nye ordningane og kva du kan søkje tilskot til – og ik
 kje.
DTEND;TZID=W. Europe Standard Time:20260324T153000
DTSTAMP:20260423T012404Z
DTSTART;TZID=W. Europe Standard Time:20260324T140000
LOCATION: Teams
ORGANIZER:mailto:post@vestland.no
SEQUENCE:0
SUMMARY:Informasjonsmøte: Nye tilskotsordningar innan kultur og folkehelse
UID:Vestland-52854
BEGIN:VALARM
ACTION:DISPLAY
DESCRIPTION:Reminder
DURATION:-PT15M
TRIGGER:-PT15M
END:VALARM
END:VEVENT
END:VCALENDAR
