BEGIN:VCALENDAR
METHOD:PUBLISH
PRODID:-//github.com/rianjs/ical.net//NONSGML ical.net 4.0//EN
VERSION:2.0
BEGIN:VEVENT
DESCRIPTION:Bibliotekutvikling i Møre og Romsdal\, Vestland og Rogaland fy
 lkeskommunar inviterer for andre gong til digital erfaringskonferanse om 
 skolebibliotekutvikling.
DTEND;TZID=W. Europe Standard Time:20260127T120000
DTSTAMP:20260420T041613Z
DTSTART;TZID=W. Europe Standard Time:20260127T090000
LOCATION: Digitalt (Teams)
ORGANIZER:mailto:post@vestland.no
SEQUENCE:0
SUMMARY:Å skape kultur for lesing
UID:Vestland-51490
BEGIN:VALARM
ACTION:DISPLAY
DESCRIPTION:Reminder
DURATION:-PT15M
TRIGGER:-PT15M
END:VALARM
END:VEVENT
END:VCALENDAR
